BEGIN:VCALENDAR
VERSION:2.0
PRODID:-//eventon.com NONSGML v1.0//EN
BEGIN:VEVENT
UID:69e9ee641e45f
DTSTAMP:20260423T203316
DTSTART:20210930T133000Z
DTEND:20211008T132900Z
LOCATION:
SUMMARY:NLP Master Practitioner Certification Training Week 1
DESCRIPTION: Week 1 is Online 1st - 8th October. Week 2 is 28th Oct - 4th November on Yorke Peninsula. Coastal accommodation is included. Book Now - CLICK HERE Or Contact Us To Find Out More...
END:VEVENT
END:VCALENDAR